BEGIN:VCALENDAR
VERSION:2.0
METHOD:PUBLISH
PRODID:-//Accessible Web Design//My Calendar//http://www.joedolson.com//v//EN';
BEGIN:VEVENT
UID:8927-19
LOCATION:
SUMMARY:Gafanha da Nazaré - Ílhavo
DTSTAMP:20260301T080000
ORGANIZER;CN=da_admin:MAILTO:fernandocassola@diocese-aveiro.pt
DTSTART:20260301T080000
DTEND:20260301T090000
CATEGORIES:Eucaristia
URL;VALUE=URI:https://diocese-aveiro.pt/v3/mc-events/gafanha-da-nazare-ilhavo-2/?mc_id=8927
DESCRIPTION:Av. José Estevão, 3830-556 Gafanha da Nazaré
END:VEVENT
END:VCALENDAR