BEGIN:VCALENDAR
VERSION:2.0
METHOD:PUBLISH
PRODID:-//Accessible Web Design//My Calendar//http://www.joedolson.com//v//EN';
BEGIN:VEVENT
UID:7752-17
LOCATION:
SUMMARY:Requeixo - Aveiro
DTSTAMP:20250413T100000
ORGANIZER;CN=da_admin:MAILTO:fernandocassola@diocese-aveiro.pt
DTSTART:20250413T100000
DTEND:20250413T110000
CATEGORIES:Eucaristia
URL;VALUE=URI:https://diocese-aveiro.pt/v3/mc-events/requeixo-aveiro/?mc_id=7752
DESCRIPTION:Rua da Igreja - 3800-871 REQUEIXO
END:VEVENT
END:VCALENDAR