BEGIN:VCALENDAR
VERSION:2.0
METHOD:PUBLISH
PRODID:-//Accessible Web Design//My Calendar//http://www.joedolson.com//v//EN';
BEGIN:VEVENT
UID:67539-119
LOCATION:
SUMMARY:Paço, Esgueira - Aveiro
DTSTAMP:20260315T090000
ORGANIZER;CN=da_admin:MAILTO:fernandocassola@diocese-aveiro.pt
DTSTART:20260315T090000
DTEND:20260315T100000
CATEGORIES:Eucaristia
URL;VALUE=URI:https://diocese-aveiro.pt/v3/mc-events/paco-esgueira-aveiro/?mc_id=67539
DESCRIPTION:Igreja do Paço Travessa do Largo da Capela, 3800-284 Esgueira
END:VEVENT
END:VCALENDAR