BEGIN:VCALENDAR
VERSION:2.0
METHOD:PUBLISH
PRODID:-//Accessible Web Design//My Calendar//http://www.joedolson.com//v//EN';
BEGIN:VEVENT
UID:65288-115
LOCATION:
SUMMARY:Esgueira - Aveiro
DTSTAMP:20260328T193000
ORGANIZER;CN=da_admin:MAILTO:fernandocassola@diocese-aveiro.pt
DTSTART:20260328T193000
DTEND:20260328T203000
CATEGORIES:Eucaristia
URL;VALUE=URI:https://diocese-aveiro.pt/v3/mc-events/esgueira-aveiro-4/?mc_id=65288
DESCRIPTION:Igreja Paroquial de Santo André de Esgueira Tv. das Cardadeiras 10, 3800-218 Esgueira
END:VEVENT
END:VCALENDAR