BEGIN:VCALENDAR
VERSION:2.0
METHOD:PUBLISH
PRODID:-//Accessible Web Design//My Calendar//http://www.joedolson.com//v//EN';
BEGIN:VEVENT
UID:63603-112
LOCATION:
SUMMARY:Esgueira - Aveiro
DTSTAMP:20260426T080000
ORGANIZER;CN=da_admin:MAILTO:fernandocassola@diocese-aveiro.pt
DTSTART:20260426T080000
DTEND:20260426T090000
CATEGORIES:Eucaristia
URL;VALUE=URI:https://diocese-aveiro.pt/v3/mc-events/esgueira-aveiro/?mc_id=63603
DESCRIPTION:Igreja Paroquial de Santo André de Esgueira Tv. das Cardadeiras 10, 3800-218 Esgueira
END:VEVENT
END:VCALENDAR