BEGIN:VCALENDAR
VERSION:2.0
METHOD:PUBLISH
PRODID:-//Accessible Web Design//My Calendar//http://www.joedolson.com//v//EN';
BEGIN:VEVENT
UID:63040-111
LOCATION:
SUMMARY:Macinhata do Vouga - Águeda
DTSTAMP:20260426T104500
ORGANIZER;CN=da_admin:MAILTO:fernandocassola@diocese-aveiro.pt
DTSTART:20260426T104500
DTEND:20260426T114500
CATEGORIES:Eucaristia
URL;VALUE=URI:https://diocese-aveiro.pt/v3/mc-events/macinhata-do-vouga-agueda-2/?mc_id=63040
DESCRIPTION:Igreja Matriz de Macinhata do Vouga Macinhata do Vouga
END:VEVENT
END:VCALENDAR