BEGIN:VCALENDAR
VERSION:2.0
METHOD:PUBLISH
PRODID:-//Accessible Web Design//My Calendar//http://www.joedolson.com//v//EN';
BEGIN:VEVENT
UID:61913-109
LOCATION:
SUMMARY:Gafanha d'Aquém - Ílhavo
DTSTAMP:20260426T110000
ORGANIZER;CN=da_admin:MAILTO:fernandocassola@diocese-aveiro.pt
DTSTART:20260426T110000
DTEND:20260426T120000
CATEGORIES:Eucaristia
URL;VALUE=URI:https://diocese-aveiro.pt/v3/mc-events/gafanha-daquem-ilhavo/?mc_id=61913
DESCRIPTION:Igreja da Gafanha d'Aquém R. da Mota 16, 3830-143 Gafanha de Aquém
END:VEVENT
END:VCALENDAR