BEGIN:VCALENDAR
VERSION:2.0
METHOD:PUBLISH
PRODID:-//Accessible Web Design//My Calendar//http://www.joedolson.com//v//EN';
BEGIN:VEVENT
UID:57401-101
LOCATION:
SUMMARY:Ílhavo
DTSTAMP:20260315T083000
ORGANIZER;CN=da_admin:MAILTO:fernandocassola@diocese-aveiro.pt
DTSTART:20260315T083000
DTEND:20260315T093000
CATEGORIES:Eucaristia
URL;VALUE=URI:https://diocese-aveiro.pt/v3/mc-events/ilhavo-3/?mc_id=57401
DESCRIPTION:Igreja Matriz de Ílhavo R. Serpa Pinto, 3830-044 Ílhavo
END:VEVENT
END:VCALENDAR