BEGIN:VCALENDAR
VERSION:2.0
METHOD:PUBLISH
PRODID:-//Accessible Web Design//My Calendar//http://www.joedolson.com//v//EN';
BEGIN:VEVENT
UID:54021-94
LOCATION:
SUMMARY:Óis da Ribeira - Águeda
DTSTAMP:20260322T101500
ORGANIZER;CN=da_admin:MAILTO:fernandocassola@diocese-aveiro.pt
DTSTART:20260322T101500
DTEND:20260322T111500
CATEGORIES:Eucaristia
URL;VALUE=URI:https://diocese-aveiro.pt/v3/mc-events/ois-da-ribeira-agueda/?mc_id=54021
DESCRIPTION:Igreja Matriz de Óis da Ribeira Igreja Matriz, 3750-650 Óis da Ribeira
END:VEVENT
END:VCALENDAR