BEGIN:VCALENDAR
VERSION:2.0
METHOD:PUBLISH
PRODID:-//Accessible Web Design//My Calendar//http://www.joedolson.com//v//EN';
BEGIN:VEVENT
UID:53457-93
LOCATION:
SUMMARY:Espinhel - Águeda
DTSTAMP:20260315T090000
ORGANIZER;CN=da_admin:MAILTO:fernandocassola@diocese-aveiro.pt
DTSTART:20260315T090000
DTEND:20260315T100000
CATEGORIES:Eucaristia
URL;VALUE=URI:https://diocese-aveiro.pt/v3/mc-events/espinhel-agueda-2/?mc_id=53457
DESCRIPTION:Igreja Matriz de Espinhel 3750-403 Espinhel
END:VEVENT
END:VCALENDAR