BEGIN:VCALENDAR
VERSION:2.0
METHOD:PUBLISH
PRODID:-//Accessible Web Design//My Calendar//http://www.joedolson.com//v//EN';
BEGIN:VEVENT
UID:51203-89
LOCATION:
SUMMARY:Mamarrosa - Oliveira do Bairro
DTSTAMP:20260321T180000
ORGANIZER;CN=da_admin:MAILTO:fernandocassola@diocese-aveiro.pt
DTSTART:20260321T180000
DTEND:20260321T190000
CATEGORIES:Eucaristia
URL;VALUE=URI:https://diocese-aveiro.pt/v3/mc-events/mamarrosa-oliveira-do-bairro/?mc_id=51203
DESCRIPTION:Igreja Matriz de S. Simão da Mamarrosa 3770-034 Mamarrosa
END:VEVENT
END:VCALENDAR