BEGIN:VCALENDAR
VERSION:2.0
METHOD:PUBLISH
PRODID:-//Accessible Web Design//My Calendar//http://www.joedolson.com//v//EN';
BEGIN:VEVENT
UID:49510-86
LOCATION:
SUMMARY:Aguada de Baixo - Águeda
DTSTAMP:20260301T110000
ORGANIZER;CN=da_admin:MAILTO:fernandocassola@diocese-aveiro.pt
DTSTART:20260301T110000
DTEND:20260301T120000
CATEGORIES:Eucaristia
URL;VALUE=URI:https://diocese-aveiro.pt/v3/mc-events/aguada-de-baixo-agueda-3/?mc_id=49510
DESCRIPTION:Igreja Matriz de Aguada de Baixo R. da Cruz 4, 3750-031 Aguada de Baixo
END:VEVENT
END:VCALENDAR