BEGIN:VCALENDAR
VERSION:2.0
METHOD:PUBLISH
PRODID:-//Accessible Web Design//My Calendar//http://www.joedolson.com//v//EN';
BEGIN:VEVENT
UID:46703-81
LOCATION:
SUMMARY:Águeda
DTSTAMP:20260503T110000
ORGANIZER;CN=da_admin:MAILTO:fernandocassola@diocese-aveiro.pt
DTSTART:20260503T110000
DTEND:20260503T120000
CATEGORIES:Eucaristia
URL;VALUE=URI:https://diocese-aveiro.pt/v3/mc-events/agueda-2/?mc_id=46703
DESCRIPTION:Igreja Matriz de Águeda Largo Dr. António Mello 24, 3750-147 Águeda
END:VEVENT
END:VCALENDAR