BEGIN:VCALENDAR
VERSION:2.0
METHOD:PUBLISH
PRODID:-//Accessible Web Design//My Calendar//http://www.joedolson.com//v//EN';
BEGIN:VEVENT
UID:43318-75
LOCATION:
SUMMARY:Torreira - Estarreja/Murtosa
DTSTAMP:20260329T080000
ORGANIZER;CN=da_admin:MAILTO:fernandocassola@diocese-aveiro.pt
DTSTART:20260329T080000
DTEND:20260329T090000
CATEGORIES:Eucaristia
URL;VALUE=URI:https://diocese-aveiro.pt/v3/mc-events/torreira-estarreja-murtosa-3/?mc_id=43318
DESCRIPTION:Capela de Nossa Senhora da Paz - Quintas do Norte R. da Capela 18, 3870-303 Torreira
END:VEVENT
END:VCALENDAR