BEGIN:VCALENDAR
VERSION:2.0
METHOD:PUBLISH
PRODID:-//Accessible Web Design//My Calendar//http://www.joedolson.com//v//EN';
BEGIN:VEVENT
UID:35434-63
LOCATION:
SUMMARY:Avanca - Estarreja/Murtosa
DTSTAMP:20260419T100000
ORGANIZER;CN=da_admin:MAILTO:fernandocassola@diocese-aveiro.pt
DTSTART:20260419T100000
DTEND:20260419T110000
CATEGORIES:Eucaristia
URL;VALUE=URI:https://diocese-aveiro.pt/v3/mc-events/avanca-estarreja-murtosa-6/?mc_id=35434
DESCRIPTION:Capela de Água Levada R. Maria Silva Brandão 94, 3860-013 Avanca &nbsp;
END:VEVENT
END:VCALENDAR