BEGIN:VCALENDAR
VERSION:2.0
METHOD:PUBLISH
PRODID:-//Accessible Web Design//My Calendar//http://www.joedolson.com//v//EN';
BEGIN:VEVENT
UID:33175-59
LOCATION:
SUMMARY:Avanca - Estarreja/Murtosa
DTSTAMP:20260321T200000
ORGANIZER;CN=da_admin:MAILTO:fernandocassola@diocese-aveiro.pt
DTSTART:20260321T200000
DTEND:20260321T210000
CATEGORIES:Eucaristia
URL;VALUE=URI:https://diocese-aveiro.pt/v3/mc-events/avanca-estarreja-murtosa-2/?mc_id=33175
DESCRIPTION:Igreja Matriz de Avanca Largo da Igreja 79, 3860-133 Avanca &nbsp; 20h00 - Horário de Inverno 20h30 - Horário de Verão
END:VEVENT
END:VCALENDAR