BEGIN:VCALENDAR
VERSION:2.0
METHOD:PUBLISH
PRODID:-//Accessible Web Design//My Calendar//http://www.joedolson.com//v//EN';
BEGIN:VEVENT
UID:29798-55
LOCATION:
SUMMARY:Troviscal - Oliveira do Bairro
DTSTAMP:20260411T193000
ORGANIZER;CN=da_admin:MAILTO:fernandocassola@diocese-aveiro.pt
DTSTART:20260411T193000
DTEND:20260411T203000
CATEGORIES:Eucaristia
URL;VALUE=URI:https://diocese-aveiro.pt/v3/mc-events/troviscal-oliveira-do-bairro/?mc_id=29798
DESCRIPTION:3770-410 Troviscal
END:VEVENT
END:VCALENDAR