BEGIN:VCALENDAR
VERSION:2.0
METHOD:PUBLISH
PRODID:-//Accessible Web Design//My Calendar//http://www.joedolson.com//v//EN';
BEGIN:VEVENT
UID:28101-50
LOCATION:
SUMMARY:Santa Catarina - Vagos
DTSTAMP:20260301T101500
ORGANIZER;CN=da_admin:MAILTO:fernandocassola@diocese-aveiro.pt
DTSTART:20260301T101500
DTEND:20260301T111500
CATEGORIES:Eucaristia
URL;VALUE=URI:https://diocese-aveiro.pt/v3/mc-events/santa-catarina-vagos-2/?mc_id=28101
DESCRIPTION:3840-571 Santa Catarina
END:VEVENT
END:VCALENDAR