BEGIN:VCALENDAR
VERSION:2.0
METHOD:PUBLISH
PRODID:-//Accessible Web Design//My Calendar//http://www.joedolson.com//v//EN';
BEGIN:VEVENT
UID:19652-38
LOCATION:
SUMMARY:Gafanha do Carmo - Ílhavo
DTSTAMP:20260329T103000
ORGANIZER;CN=da_admin:MAILTO:fernandocassola@diocese-aveiro.pt
DTSTART:20260329T103000
DTEND:20260329T113000
CATEGORIES:Eucaristia
URL;VALUE=URI:https://diocese-aveiro.pt/v3/mc-events/gafanha-do-carmo-ilhavo/?mc_id=19652
DESCRIPTION:R. da Igreja 5, Gafanha do Carmo
END:VEVENT
END:VCALENDAR