BEGIN:VCALENDAR
VERSION:2.0
METHOD:PUBLISH
PRODID:-//Accessible Web Design//My Calendar//http://www.joedolson.com//v//EN';
BEGIN:VEVENT
UID:16830-33
LOCATION:
SUMMARY:Mogofores - Anadia
DTSTAMP:20260321T183000
ORGANIZER;CN=da_admin:MAILTO:fernandocassola@diocese-aveiro.pt
DTSTART:20260321T183000
DTEND:20260321T193000
CATEGORIES:Eucaristia
URL;VALUE=URI:https://diocese-aveiro.pt/v3/mc-events/mogofores-anadia/?mc_id=16830
DESCRIPTION:Eucaristia Paroquial (Igreja Matriz)
END:VEVENT
END:VCALENDAR